BEGIN:VCALENDAR
VERSION:2.0
PRODID:-//hacksw/handcal//NONSGML v1.0//EN
BEGIN:VEVENT
SUMMARY:11/14 ans Filles 1
UID:8f980fd5-c8f0-4aab-a5b1-437cd5e6fa09
DTSTART:20260505T220000Z
DTEND:20260506T220000Z
LOCATION:Localisation   
CATEGORIES:Sportif
STATUS:
URL;VALUE=URI:https://www.tennis-club-velizy.com/evenements/2026/05/06/1114-ans-filles-1-2437081
END:VEVENT
END:VCALENDAR
