BEGIN:VCALENDAR
VERSION:2.0
PRODID:-//hacksw/handcal//NONSGML v1.0//EN
BEGIN:VEVENT
SUMMARY:Seniors Messieurs 2
UID:274459ed-2134-43d7-998f-c30a7b2a3c10
DTSTART:20260530T220000Z
DTEND:20260531T220000Z
LOCATION:Localisation   
CATEGORIES:Sportif
STATUS:
URL;VALUE=URI:https://www.tennis-club-velizy.com/evenements/2026/05/31/seniors-messieurs-2-2437102
END:VEVENT
END:VCALENDAR
